BEGIN:VCALENDAR
VERSION:2.0
PRODID:-//wp-events-plugin.com//7.2.3.1//EN
TZID:America/Chicago
X-WR-TIMEZONE:America/Chicago
BEGIN:VEVENT
UID:811@pointoflightchurch.org
DTSTART;TZID=America/Chicago:20211002T143000
DTEND;TZID=America/Chicago:20211002T160000
DTSTAMP:20210930T123310Z
URL:https://pointoflightchurch.org/events/zoes-ladies-group-jewelry-art-cr
 aft-fellowship-event/
SUMMARY:Zoe's Ladies Group "Jewelry Art & Craft" Fellowship Event
DESCRIPTION:Make your own beautiful jewelry!\n$5 donation to Zoe Ladies Gro
 up\nSponsored by:\nSis Chari &amp\; Artz Gypsy\n&nbsp\;\n&nbsp\;
CATEGORIES:Onsite,Special Events
LOCATION:https://www.eventbrite.com/mytickets/1940108089/
END:VEVENT
BEGIN:VTIMEZONE
TZID:America/Chicago
X-LIC-LOCATION:America/Chicago
BEGIN:DAYLIGHT
DTSTART:20210314T030000
TZOFFSETFROM:-0600
TZOFFSETTO:-0500
TZNAME:CDT
END:DAYLIGHT
END:VTIMEZONE
END:VCALENDAR