BEGIN:VCALENDAR
VERSION:2.0
PRODID:-//wp-events-plugin.com//7.2.3.1//EN
TZID:America/Chicago
X-WR-TIMEZONE:America/Chicago
BEGIN:VEVENT
UID:947@pointoflightchurch.org
DTSTART;TZID=America/Chicago:20240914T110000
DTEND;TZID=America/Chicago:20240914T124500
DTSTAMP:20240830T190658Z
URL:https://pointoflightchurch.org/events/zoes-ladies-3q-meet-up/
SUMMARY:Zoe's Ladies 3Q Meet Up
DESCRIPTION:Please sign up and invite a friend! Scan the QR code
ATTACH;FMTTYPE=image/jpeg:https://pointoflightchurch.org/wp-content/upload
 s/2024/08/2024-09-Calendar_Zoe-Ladies-Q3-QRC-pdf.jpg
CATEGORIES:Ministry Meetups
END:VEVENT
BEGIN:VTIMEZONE
TZID:America/Chicago
X-LIC-LOCATION:America/Chicago
BEGIN:DAYLIGHT
DTSTART:20240310T030000
TZOFFSETFROM:-0600
TZOFFSETTO:-0500
TZNAME:CDT
END:DAYLIGHT
END:VTIMEZONE
END:VCALENDAR