BEGIN:VCALENDAR
VERSION:2.0
PRODID:-//wp-events-plugin.com//7.2.3.1//EN
TZID:America/Chicago
X-WR-TIMEZONE:America/Chicago
BEGIN:VEVENT
UID:819@pointoflightchurch.org
DTSTART;TZID=America/Chicago:20220215T190000
DTEND;TZID=America/Chicago:20220215T200000
DTSTAMP:20220211T185108Z
URL:https://pointoflightchurch.org/events/zoes-book-club-meeting/
SUMMARY:Zoe's Book Club Meeting
DESCRIPTION:Come Join Us for Our New Book Club\n\nThe book\, "The Believer'
 s Authority" by Kenneth E. Hagin will be provided. We are planning eight b
 ook club sessions.  We will practice social distancing and mask wearing d
 uring these sessions.\n\nTeam Leader/Minister: Sis Kimberly Robinson
ATTACH;FMTTYPE=image/jpeg:https://i0.wp.com/pointoflightchurch.org/wp-cont
 ent/uploads/2022/02/BOOK-CLUB-2022-scaled.jpg?fit=1977%2C2560&ssl=1
CATEGORIES:Onsite
LOCATION:Point of Light Church\, 1599 Kingswood Dr\, Cedar Hill\, TX\, 7510
 4\, United States
X-APPLE-STRUCTURED-LOCATION;VALUE=URI;X-ADDRESS=1599 Kingswood Dr\, Cedar H
 ill\, TX\, 75104\, United States;X-APPLE-RADIUS=100;X-TITLE=Point of Light
  Church:geo:0,0
END:VEVENT
BEGIN:VTIMEZONE
TZID:America/Chicago
X-LIC-LOCATION:America/Chicago
BEGIN:STANDARD
DTSTART:20211107T010000
TZOFFSETFROM:-0500
TZOFFSETTO:-0600
TZNAME:CST
END:STANDARD
END:VTIMEZONE
END:VCALENDAR