BEGIN:VCALENDAR
VERSION:2.0
PRODID:-//wp-events-plugin.com//7.2.3.1//EN
TZID:America/Chicago
X-WR-TIMEZONE:America/Chicago
BEGIN:VEVENT
UID:1441@pointoflightchurch.org
DTSTART;TZID=America/Chicago:20260314T110000
DTEND;TZID=America/Chicago:20260314T123000
DTSTAMP:20260126T015711Z
URL:https://pointoflightchurch.org/events/zoe-sisters-q1-meet-up-purple-pe
 arls-affair/
SUMMARY:Zoe Sisters' Q1 Meet UP - Purple & Pearls Affair
DESCRIPTION:Please scan the QR Code to register.\nHope to see you ladies th
 ere!
ATTACH;FMTTYPE=image/jpeg:https://i0.wp.com/pointoflightchurch.org/wp-cont
 ent/uploads/2026/01/Screenshot-2026-01-25-at-7.49.22%E2%80%AFPM.png?fit=51
 20%2C2880&ssl=1
CATEGORIES:Ministry Meetups,Onsite
LOCATION:Point of Light Church\, 1599 Kingswood Dr\, Cedar Hill\, TX\, 7510
 4\, United States
X-APPLE-STRUCTURED-LOCATION;VALUE=URI;X-ADDRESS=1599 Kingswood Dr\, Cedar H
 ill\, TX\, 75104\, United States;X-APPLE-RADIUS=100;X-TITLE=Point of Light
  Church:geo:0,0
END:VEVENT
BEGIN:VTIMEZONE
TZID:America/Chicago
X-LIC-LOCATION:America/Chicago
BEGIN:DAYLIGHT
DTSTART:20260308T030000
TZOFFSETFROM:-0600
TZOFFSETTO:-0500
TZNAME:CDT
END:DAYLIGHT
END:VTIMEZONE
END:VCALENDAR