BEGIN:VCALENDAR
VERSION:2.0
PRODID:-//wp-events-plugin.com//7.2.3.1//EN
TZID:America/Chicago
X-WR-TIMEZONE:America/Chicago
BEGIN:VEVENT
UID:921@pointoflightchurch.org
DTSTART;TZID=America/Chicago:20230623T190000
DTEND;TZID=America/Chicago:20230623T203000
DTSTAMP:20230612T152835Z
URL:https://pointoflightchurch.org/events/zoe-ladies-sponsored-community-c
 oncert/
SUMMARY:Zoe Ladies' Sponsored Community Concert
DESCRIPTION:Community Concert\, 7PM @ The Point\, Come out and enjoy the ce
 lebration!\n\nEntertainment by\n\nSinger Nai Washington and her Band\n\nSi
 nger/Song writer Chealsey Symone and more!\n\n&nbsp\;
CATEGORIES:Onsite,Special Events
LOCATION:Point of Light Church\, 1599 Kingswood Dr\, Cedar Hill\, TX\, 7510
 4\, United States
X-APPLE-STRUCTURED-LOCATION;VALUE=URI;X-ADDRESS=1599 Kingswood Dr\, Cedar H
 ill\, TX\, 75104\, United States;X-APPLE-RADIUS=100;X-TITLE=Point of Light
  Church:geo:0,0
END:VEVENT
BEGIN:VTIMEZONE
TZID:America/Chicago
X-LIC-LOCATION:America/Chicago
BEGIN:DAYLIGHT
DTSTART:20230312T030000
TZOFFSETFROM:-0600
TZOFFSETTO:-0500
TZNAME:CDT
END:DAYLIGHT
END:VTIMEZONE
END:VCALENDAR