BEGIN:VCALENDAR
VERSION:2.0
PRODID:-//wp-events-plugin.com//7.2.3.1//EN
TZID:America/Chicago
X-WR-TIMEZONE:America/Chicago
BEGIN:VEVENT
UID:933@pointoflightchurch.org
DTSTART;TZID=America/Chicago:20240309T110000
DTEND;TZID=America/Chicago:20240309T130000
DTSTAMP:20240203T200551Z
URL:https://pointoflightchurch.org/events/zoe-ladies-quarterly-meeting/
SUMMARY:Zoe Ladies Quarterly Social
DESCRIPTION:Save the Date PLC ladies!\n"Spring Cleaning"\n"Create in me a c
 lean heart\, O God and renew a right spirit within me." Psalms 51 :10-12\n
 &nbsp\;
LOCATION:Point of Light Church\, 1599 Kingswood Dr\, Cedar Hill\, TX\, 7510
 4\, United States
X-APPLE-STRUCTURED-LOCATION;VALUE=URI;X-ADDRESS=1599 Kingswood Dr\, Cedar H
 ill\, TX\, 75104\, United States;X-APPLE-RADIUS=100;X-TITLE=Point of Light
  Church:geo:0,0
END:VEVENT
BEGIN:VTIMEZONE
TZID:America/Chicago
X-LIC-LOCATION:America/Chicago
BEGIN:STANDARD
DTSTART:20231105T010000
TZOFFSETFROM:-0500
TZOFFSETTO:-0600
TZNAME:CST
END:STANDARD
END:VTIMEZONE
END:VCALENDAR