BEGIN:VCALENDAR
VERSION:2.0
PRODID:-//wp-events-plugin.com//7.2.3.1//EN
TZID:America/Chicago
X-WR-TIMEZONE:America/Chicago
BEGIN:VEVENT
UID:874@pointoflightchurch.org
DTSTART;TZID=America/Chicago:20220917T110000
DTEND;TZID=America/Chicago:20220917T123000
DTSTAMP:20220808T123843Z
URL:https://pointoflightchurch.org/events/zoe-ladies-lunch/
SUMMARY:Zoe Ladies Lunch
DESCRIPTION:Please Register by scanning the QR Code.   
ATTACH;FMTTYPE=image/jpeg:https://i0.wp.com/pointoflightchurch.org/wp-cont
 ent/uploads/2022/08/06302539-669B-416B-B042-2968BFD32F8F_4_5005_c.jpeg?fit
 =640%2C360&ssl=1
CATEGORIES:Ministry Meetups,Onsite
LOCATION:Point of Light Church\, 1599 Kingswood Dr\, Cedar Hill\, TX\, 7510
 4\, United States
X-APPLE-STRUCTURED-LOCATION;VALUE=URI;X-ADDRESS=1599 Kingswood Dr\, Cedar H
 ill\, TX\, 75104\, United States;X-APPLE-RADIUS=100;X-TITLE=Point of Light
  Church:geo:0,0
END:VEVENT
BEGIN:VTIMEZONE
TZID:America/Chicago
X-LIC-LOCATION:America/Chicago
BEGIN:DAYLIGHT
DTSTART:20220313T030000
TZOFFSETFROM:-0600
TZOFFSETTO:-0500
TZNAME:CDT
END:DAYLIGHT
END:VTIMEZONE
END:VCALENDAR