BEGIN:VCALENDAR
VERSION:2.0
PRODID:-//wp-events-plugin.com//7.2.3.1//EN
TZID:America/Chicago
X-WR-TIMEZONE:America/Chicago
BEGIN:VEVENT
UID:872@pointoflightchurch.org
DTSTART;TZID=America/Chicago:20220625T110000
DTEND;TZID=America/Chicago:20220625T123000
DTSTAMP:20220607T173649Z
URL:https://pointoflightchurch.org/events/zoe-ladies-brunch-2022q02/
SUMMARY:Zoe Ladies Brunch 2022Q02
DESCRIPTION:Let's Do Brunch!\n\nLadies\, you are invite to brunch at The Po
 int\, Saturday\, June 25th.\n\nWe are asking everyone to wear a combinatio
 n of yellow\, black and white for this event.\n\nPlease RSVP on the Eventb
 rite link or use the QR Code on the flyer:\n\nhttps://www.eventbrite.com/e
 /zoe-ladies-brunch-tickets-358175541687
ATTACH;FMTTYPE=image/jpeg:https://pointoflightchurch.org/wp-content/upload
 s/2022/06/Zoe-Ladies-Brunch-2022Q2-Information-R1-pdf.jpg
CATEGORIES:Ministry Meetups,Onsite
LOCATION:Point of Light Church\, 1599 Kingswood Dr\, Cedar Hill\, TX\, 7510
 4\, United States
X-APPLE-STRUCTURED-LOCATION;VALUE=URI;X-ADDRESS=1599 Kingswood Dr\, Cedar H
 ill\, TX\, 75104\, United States;X-APPLE-RADIUS=100;X-TITLE=Point of Light
  Church:geo:0,0
END:VEVENT
BEGIN:VTIMEZONE
TZID:America/Chicago
X-LIC-LOCATION:America/Chicago
BEGIN:DAYLIGHT
DTSTART:20220313T030000
TZOFFSETFROM:-0600
TZOFFSETTO:-0500
TZNAME:CDT
END:DAYLIGHT
END:VTIMEZONE
END:VCALENDAR