BEGIN:VCALENDAR
VERSION:2.0
PRODID:-//wp-events-plugin.com//7.2.3.1//EN
TZID:America/Chicago
X-WR-TIMEZONE:America/Chicago
BEGIN:VEVENT
UID:928@pointoflightchurch.org
DTSTART;TZID=America/Chicago:20230917T090000
DTEND;TZID=America/Chicago:20230917T094500
DTSTAMP:20230911T171114Z
URL:https://pointoflightchurch.org/events/zoe-ladies-breakfast/
SUMMARY:Zoe Ladies' Breakfast
DESCRIPTION:Ladies\,\n\nCome early for a lite breakfast to celebrate our ne
 west Zoe Sisters!\n\nMeet with us in the fellowship hall at 9AM.\n\nPlease
  sign up by scanning the QR code\, this is an Free event!
CATEGORIES:Ministry Meetups,Special Events
LOCATION:Point of Light Church\, 1599 Kingswood Dr\, Cedar Hill\, TX\, 7510
 4\, United States
X-APPLE-STRUCTURED-LOCATION;VALUE=URI;X-ADDRESS=1599 Kingswood Dr\, Cedar H
 ill\, TX\, 75104\, United States;X-APPLE-RADIUS=100;X-TITLE=Point of Light
  Church:geo:0,0
END:VEVENT
BEGIN:VTIMEZONE
TZID:America/Chicago
X-LIC-LOCATION:America/Chicago
BEGIN:DAYLIGHT
DTSTART:20230312T030000
TZOFFSETFROM:-0600
TZOFFSETTO:-0500
TZNAME:CDT
END:DAYLIGHT
END:VTIMEZONE
END:VCALENDAR