BEGIN:VCALENDAR
VERSION:2.0
PRODID:-//wp-events-plugin.com//7.2.3.1//EN
TZID:America/Chicago
X-WR-TIMEZONE:America/Chicago
BEGIN:VEVENT
UID:1008@pointoflightchurch.org
DTSTART;TZID=America/Chicago:20250308T110000
DTEND;TZID=America/Chicago:20250308T123000
DTSTAMP:20250225T192935Z
URL:https://pointoflightchurch.org/events/zoe-ladies-1st-quarterly-meeting
 /
SUMMARY:Zoe Ladies 1st Quarterly Meeting
DESCRIPTION:All PLC ladies are invited to our first quarter meet-up\nMark y
 our calendars\nRegistration will be coming soon!
ATTACH;FMTTYPE=image/jpeg:https://i0.wp.com/pointoflightchurch.org/wp-cont
 ent/uploads/2025/02/Screenshot-2025-02-25-at-12.45.22%E2%80%AFPM.png?fit=5
 120%2C2880&ssl=1
CATEGORIES:Ministry Meetups,Onsite
LOCATION:Point of Light Church\, 1599 Kingswood Dr\, Cedar Hill\, TX\, 7510
 4\, United States
X-APPLE-STRUCTURED-LOCATION;VALUE=URI;X-ADDRESS=1599 Kingswood Dr\, Cedar H
 ill\, TX\, 75104\, United States;X-APPLE-RADIUS=100;X-TITLE=Point of Light
  Church:geo:0,0
END:VEVENT
BEGIN:VTIMEZONE
TZID:America/Chicago
X-LIC-LOCATION:America/Chicago
BEGIN:STANDARD
DTSTART:20241103T010000
TZOFFSETFROM:-0500
TZOFFSETTO:-0600
TZNAME:CST
END:STANDARD
END:VTIMEZONE
END:VCALENDAR