BEGIN:VCALENDAR
VERSION:2.0
PRODID:-//wp-events-plugin.com//7.2.3.1//EN
TZID:America/Chicago
X-WR-TIMEZONE:America/Chicago
BEGIN:VEVENT
UID:1059@pointoflightchurch.org
DTSTART;TZID=America/Chicago;VALUE=DATE:20250416
DTEND;TZID=America/Chicago;VALUE=DATE:20250417
DTSTAMP:20250408T181221Z
URL:https://pointoflightchurch.org/events/volunteers-need-for-community-fa
 mily-fun-day-sign-up-here/
SUMMARY:Volunteers Need for Community Family Fun Day! (Sign up Here)
DESCRIPTION:Scan the QR code and Sign up to volunteer! Community Family Fun
  Day!\n\nWe are excited to share this day serving and interacting with our
  community.\n\nInstructions for show time and tear down will be given out
   shortly!\n\nThanks again for your service in advance!
ATTACH;FMTTYPE=image/jpeg:https://i0.wp.com/pointoflightchurch.org/wp-cont
 ent/uploads/2025/02/Screenshot-2025-04-08-at-12.57.10%E2%80%AFPM.png?fit=5
 120%2C2880&ssl=1
CATEGORIES:Special Events
LOCATION:Point of Light Church\, 1599 Kingswood Dr\, Cedar Hill\, TX\, 7510
 4\, United States
X-APPLE-STRUCTURED-LOCATION;VALUE=URI;X-ADDRESS=1599 Kingswood Dr\, Cedar H
 ill\, TX\, 75104\, United States;X-APPLE-RADIUS=100;X-TITLE=Point of Light
  Church:geo:0,0
END:VEVENT
BEGIN:VTIMEZONE
TZID:America/Chicago
X-LIC-LOCATION:America/Chicago
BEGIN:DAYLIGHT
DTSTART:20250309T030000
TZOFFSETFROM:-0600
TZOFFSETTO:-0500
TZNAME:CDT
END:DAYLIGHT
END:VTIMEZONE
END:VCALENDAR