BEGIN:VCALENDAR
VERSION:2.0
PRODID:-//wp-events-plugin.com//7.2.3.1//EN
TZID:America/Chicago
X-WR-TIMEZONE:America/Chicago
BEGIN:VEVENT
UID:925@pointoflightchurch.org
DTSTART;TZID=America/Chicago:20230910T100000
DTEND;TZID=America/Chicago:20230910T104500
DTSTAMP:20230826T204256Z
URL:https://pointoflightchurch.org/events/volunteer-at-the-point/
SUMMARY:Volunteer at The Point
DESCRIPTION:&nbsp\;\n          How exciting and what a great opportuni
 ty to serve!  If your interest in any of the ministries please contact De
 acon Paul - Greeters Ministry\, and for all others ministries Sis Nichole 
 Howard or Lady D.\nThank you for your service in advance!
LOCATION:Point of Light Church\, 1599 Kingswood Dr\, Cedar Hill\, TX\, 7510
 4\, United States
X-APPLE-STRUCTURED-LOCATION;VALUE=URI;X-ADDRESS=1599 Kingswood Dr\, Cedar H
 ill\, TX\, 75104\, United States;X-APPLE-RADIUS=100;X-TITLE=Point of Light
  Church:geo:0,0
END:VEVENT
BEGIN:VTIMEZONE
TZID:America/Chicago
X-LIC-LOCATION:America/Chicago
BEGIN:DAYLIGHT
DTSTART:20230312T030000
TZOFFSETFROM:-0600
TZOFFSETTO:-0500
TZNAME:CDT
END:DAYLIGHT
END:VTIMEZONE
END:VCALENDAR