BEGIN:VCALENDAR
VERSION:2.0
PRODID:-//wp-events-plugin.com//7.2.3.1//EN
TZID:America/Chicago
X-WR-TIMEZONE:America/Chicago
BEGIN:VEVENT
UID:1007@pointoflightchurch.org
DTSTART;TZID=America/Chicago:20250212T180000
DTEND;TZID=America/Chicago:20250212T203000
DTSTAMP:20250120T020705Z
URL:https://pointoflightchurch.org/events/valentines-party/
SUMMARY:PLC FOREVER YOURS Valentine's Party
DESCRIPTION:PLC Presents: FOREVER YOURS Valentine's Party\nLimited Seating 
 Please Clink on the link below to Register Now\nhttps://subspla.sh/b2gv7jf
LOCATION:Traphene Hickman Library\, 450 Pioneer Trail\, CEDAR HILL\, TX\, 7
 5104\, United States
X-APPLE-STRUCTURED-LOCATION;VALUE=URI;X-ADDRESS=450 Pioneer Trail\, CEDAR H
 ILL\, TX\, 75104\, United States;X-APPLE-RADIUS=100;X-TITLE=Traphene Hickm
 an Library:geo:0,0
END:VEVENT
BEGIN:VTIMEZONE
TZID:America/Chicago
X-LIC-LOCATION:America/Chicago
BEGIN:STANDARD
DTSTART:20241103T010000
TZOFFSETFROM:-0500
TZOFFSETTO:-0600
TZNAME:CST
END:STANDARD
END:VTIMEZONE
END:VCALENDAR