BEGIN:VCALENDAR
VERSION:2.0
PRODID:-//wp-events-plugin.com//7.2.3.1//EN
TZID:America/Chicago
X-WR-TIMEZONE:America/Chicago
BEGIN:VEVENT
UID:1063@pointoflightchurch.org
DTSTART;TZID=America/Chicago:20250602T183000
DTEND;TZID=America/Chicago:20250606T200000
DTSTAMP:20250430T142138Z
URL:https://pointoflightchurch.org/events/vacation-bible-school-vbs/
SUMMARY:Vacation Bible School (VBS)
DESCRIPTION:Scan the QR Code to Register!\nA Day at Yee-Haw VBS\nEach day a
 t Yee-Haw VBS\, kids gallop through field-tested rotations that reinforce 
 relevant Bible Points and immerse kids in new adventures.
ATTACH;FMTTYPE=image/jpeg:https://i0.wp.com/pointoflightchurch.org/wp-cont
 ent/uploads/2025/04/Screenshot-2025-04-30-at-9.19.56%E2%80%AFAM.png?fit=51
 20%2C2880&ssl=1
CATEGORIES:Onsite,Special Events
LOCATION:Point of Light Church\, 1599 Kingswood Dr\, Cedar Hill\, TX\, 7510
 4\, United States
X-APPLE-STRUCTURED-LOCATION;VALUE=URI;X-ADDRESS=1599 Kingswood Dr\, Cedar H
 ill\, TX\, 75104\, United States;X-APPLE-RADIUS=100;X-TITLE=Point of Light
  Church:geo:0,0
END:VEVENT
BEGIN:VTIMEZONE
TZID:America/Chicago
X-LIC-LOCATION:America/Chicago
BEGIN:DAYLIGHT
DTSTART:20250309T030000
TZOFFSETFROM:-0600
TZOFFSETTO:-0500
TZNAME:CDT
END:DAYLIGHT
END:VTIMEZONE
END:VCALENDAR