BEGIN:VCALENDAR
VERSION:2.0
PRODID:-//wp-events-plugin.com//7.2.3.1//EN
TZID:America/Chicago
X-WR-TIMEZONE:America/Chicago
BEGIN:VEVENT
UID:895@pointoflightchurch.org
DTSTART;TZID=America/Chicago:20221218T100000
DTEND;TZID=America/Chicago:20221218T113000
DTSTAMP:20221113T044555Z
URL:https://pointoflightchurch.org/events/ugly-christmas-sweater-sunday/
SUMMARY:Ugly Christmas Sweater Sunday
DESCRIPTION:We are hosting the our annual Ugly Christmas Sweater Sunday in 
 worship\, 10:00am. Find those goofy\, silly\, ugly sweaters from the back 
 of your closet or from your most recent Christmas party and wear them to c
 hurch. We may even have a special contest and giveaway for the best ugly s
 weater.  Church can be joy-filled\, fun\, and filled with laughter. We ca
 n’t wait to see what ugly sweaters you wear.\n\nPlease remember 1 Corint
 hians 14:40 "Let all things be done decently and in order."\nJoin us onsit
 e at Point of Light Church for this event.\nPoint of Light Church:\n1599 K
 ingswood Dr\nCedar Hill\, TX\, TX 75104\n[su_button url="https://pointofli
 ghtchurch.org/contact" style="flat" icon="icon: map-marker"]Get Directions
 [/su_button]
LOCATION:Point of Light Church\, 1599 Kingswood Dr\, Cedar Hill\, TX\, 7510
 4\, United States
X-APPLE-STRUCTURED-LOCATION;VALUE=URI;X-ADDRESS=1599 Kingswood Dr\, Cedar H
 ill\, TX\, 75104\, United States;X-APPLE-RADIUS=100;X-TITLE=Point of Light
  Church:geo:0,0
END:VEVENT
BEGIN:VTIMEZONE
TZID:America/Chicago
X-LIC-LOCATION:America/Chicago
BEGIN:STANDARD
DTSTART:20221106T010000
TZOFFSETFROM:-0500
TZOFFSETTO:-0600
TZNAME:CST
END:STANDARD
END:VTIMEZONE
END:VCALENDAR