BEGIN:VCALENDAR
VERSION:2.0
PRODID:-//wp-events-plugin.com//7.2.3.1//EN
TZID:America/Chicago
X-WR-TIMEZONE:America/Chicago
BEGIN:VEVENT
UID:1306@pointoflightchurch.org
DTSTART;TZID=America/Chicago:20280702T100000
DTEND;TZID=America/Chicago:20280702T120000
DTSTAMP:20260401T135721Z
URL:https://pointoflightchurch.org/events/sunday-service-2028-07-02/
SUMMARY:Sunday Service
DESCRIPTION:Join us Sundays as we gather in God’s presence for a time of 
 powerful worship and Bible based teaching.\nWatch Online: Facebook | YouT
 ube
CATEGORIES:Onsite,Watch Online,Weekly Services
LOCATION:Point of Light Church\, 1599 Kingswood Dr\, Cedar Hill\, TX\, 7510
 4\, United States
X-APPLE-STRUCTURED-LOCATION;VALUE=URI;X-ADDRESS=1599 Kingswood Dr\, Cedar H
 ill\, TX\, 75104\, United States;X-APPLE-RADIUS=100;X-TITLE=Point of Light
  Church:geo:0,0
END:VEVENT
BEGIN:VTIMEZONE
TZID:America/Chicago
X-LIC-LOCATION:America/Chicago
BEGIN:DAYLIGHT
DTSTART:20280312T030000
TZOFFSETFROM:-0600
TZOFFSETTO:-0500
TZNAME:CDT
END:DAYLIGHT
END:VTIMEZONE
END:VCALENDAR