BEGIN:VCALENDAR
VERSION:2.0
PRODID:-//wp-events-plugin.com//7.2.3.1//EN
TZID:America/Chicago
X-WR-TIMEZONE:America/Chicago
BEGIN:VEVENT
UID:980@pointoflightchurch.org
DTSTART;TZID=America/Chicago:20260627T110000
DTEND;TZID=America/Chicago:20260627T000000
DTSTAMP:20250330T011407Z
URL:https://pointoflightchurch.org/events/singles-pursuing-god-2026-06-27/
SUMMARY:Singles Pursuing God
DESCRIPTION:Our entire lives rest upon the Truth of Who Jesus is\, and what
  He has accomplished for us. When we seek Jesus\, He gives us true freedom
 .\nSingles please join us every fourth Saturday at the Point.  Contact Si
 s Shaun for more information.
CATEGORIES:Ministry Meetups
LOCATION:Point of Light Church\, 1599 Kingswood Dr\, Cedar Hill\, TX\, 7510
 4\, United States
X-APPLE-STRUCTURED-LOCATION;VALUE=URI;X-ADDRESS=1599 Kingswood Dr\, Cedar H
 ill\, TX\, 75104\, United States;X-APPLE-RADIUS=100;X-TITLE=Point of Light
  Church:geo:0,0
END:VEVENT
BEGIN:VTIMEZONE
TZID:America/Chicago
X-LIC-LOCATION:America/Chicago
BEGIN:DAYLIGHT
DTSTART:20260308T030000
TZOFFSETFROM:-0600
TZOFFSETTO:-0500
TZNAME:CDT
END:DAYLIGHT
END:VTIMEZONE
END:VCALENDAR