BEGIN:VCALENDAR
VERSION:2.0
PRODID:-//wp-events-plugin.com//7.2.3.1//EN
TZID:America/Chicago
X-WR-TIMEZONE:America/Chicago
BEGIN:VEVENT
UID:877@pointoflightchurch.org
DTSTART;TZID=America/Chicago:20221023T000000
DTEND;TZID=America/Chicago:20221031T235900
DTSTAMP:20220830T192240Z
URL:https://pointoflightchurch.org/events/red-ribbon-week-kick-off/
SUMMARY:Red Ribbon Week Kick Off
DESCRIPTION:Red Ribbon Week October 23 through 31st!\n\n
CATEGORIES:Onsite
END:VEVENT
BEGIN:VTIMEZONE
TZID:America/Chicago
X-LIC-LOCATION:America/Chicago
BEGIN:DAYLIGHT
DTSTART:20220313T030000
TZOFFSETFROM:-0600
TZOFFSETTO:-0500
TZNAME:CDT
END:DAYLIGHT
END:VTIMEZONE
END:VCALENDAR