BEGIN:VCALENDAR
VERSION:2.0
PRODID:-//wp-events-plugin.com//7.2.3.1//EN
TZID:America/Chicago
X-WR-TIMEZONE:America/Chicago
BEGIN:VEVENT
UID:923@pointoflightchurch.org
DTSTART;TZID=America/Chicago:20231022T103000
DTEND;TZID=America/Chicago:20231022T114500
DTSTAMP:20230713T141749Z
URL:https://pointoflightchurch.org/events/red-ribbon-week-kick-off-2/
SUMMARY:Red Ribbon Week Kick Off
DESCRIPTION:Red Ribbon Week is October 23-31\, 2023\nThere is power in stan
 ding up for what is right. There is strength in being vocal for advocating
 \, educating\, and showing strength. For Red Ribbon Week\, spread the know
 ledge and importance of drug and bullying prevention. Inspire kids to be t
 heir best selves and make the right choices\, not just for a week\, but fo
 r life!
CATEGORIES:Onsite,Special Events
LOCATION:Point of Light Church\, 1599 Kingswood Dr\, Cedar Hill\, TX\, 7510
 4\, United States
X-APPLE-STRUCTURED-LOCATION;VALUE=URI;X-ADDRESS=1599 Kingswood Dr\, Cedar H
 ill\, TX\, 75104\, United States;X-APPLE-RADIUS=100;X-TITLE=Point of Light
  Church:geo:0,0
END:VEVENT
BEGIN:VTIMEZONE
TZID:America/Chicago
X-LIC-LOCATION:America/Chicago
BEGIN:DAYLIGHT
DTSTART:20230312T030000
TZOFFSETFROM:-0600
TZOFFSETTO:-0500
TZNAME:CDT
END:DAYLIGHT
END:VTIMEZONE
END:VCALENDAR