BEGIN:VCALENDAR
VERSION:2.0
PRODID:-//wp-events-plugin.com//7.2.3.1//EN
TZID:America/Chicago
X-WR-TIMEZONE:America/Chicago
BEGIN:VEVENT
UID:1121@pointoflightchurch.org
DTSTART;TZID=America/Chicago:20261223T190000
DTEND;TZID=America/Chicago:20261223T200000
DTSTAMP:20260401T131617Z
URL:https://pointoflightchurch.org/events/power-up-bible-study-2026-12-23/
SUMMARY:Power Up Bible Study
DESCRIPTION:Join us Wednesdays as we power up through a deeper study of the
  Word of God\, focused on spiritual growth and development.\nWatch Online:
  Facebook | YouTube
CATEGORIES:Onsite,Watch Online,Weekly Services
LOCATION:Point of Light Church\, 1599 Kingswood Dr\, Cedar Hill\, TX\, 7510
 4\, United States
X-APPLE-STRUCTURED-LOCATION;VALUE=URI;X-ADDRESS=1599 Kingswood Dr\, Cedar H
 ill\, TX\, 75104\, United States;X-APPLE-RADIUS=100;X-TITLE=Point of Light
  Church:geo:0,0
END:VEVENT
BEGIN:VTIMEZONE
TZID:America/Chicago
X-LIC-LOCATION:America/Chicago
BEGIN:STANDARD
DTSTART:20261101T010000
TZOFFSETFROM:-0500
TZOFFSETTO:-0600
TZNAME:CST
END:STANDARD
END:VTIMEZONE
END:VCALENDAR