BEGIN:VCALENDAR
VERSION:2.0
PRODID:-//wp-events-plugin.com//7.2.3.1//EN
TZID:America/Chicago
X-WR-TIMEZONE:America/Chicago
BEGIN:VEVENT
UID:1082@pointoflightchurch.org
DTSTART;TZID=America/Chicago:20260325T190000
DTEND;TZID=America/Chicago:20260325T200000
DTSTAMP:20260324T041517Z
URL:https://pointoflightchurch.org/events/power-up-bible-study-2026-03-25/
SUMMARY:Power Up Bible Study (Cancelled)
DESCRIPTION:This event is cancelled for this week.\nJoin us onsite at Point
  of Light Church for this event.\nPoint of Light Church:\n1599 Kingswood D
 r\nCedar Hill\, TX\, TX 75104\n[su_button url="https://pointoflightchurch.
 org/contact" style="flat" background="#99cc66"  icon="icon: map-marker"]G
 et Directions[/su_button]\nWatch Online:\n[su_button url="https://pointofl
 ightchurch.org/watch/" style="flat" background="#993399" icon="icon: youtu
 be-play"]Watch Online[/su_button]\nWatch Live on:\n[su_button url="https:/
 /www.facebook.com/PointOfLightChurch/" style="flat" icon="icon: facebook-o
 fficial"]Facebook[/su_button]\n[su_button url="https://www.youtube.com/cha
 nnel/UCgJeSAs4r1WmkZgrye_LSag" style="flat" background="#ff0000" icon="ico
 n: youtube-play" icon_color="#ffffff"]YouTube[/su_button]
CATEGORIES:Onsite,Watch Online,Weekly Services
LOCATION:Point of Light Church\, 1599 Kingswood Dr\, Cedar Hill\, TX\, 7510
 4\, United States
X-APPLE-STRUCTURED-LOCATION;VALUE=URI;X-ADDRESS=1599 Kingswood Dr\, Cedar H
 ill\, TX\, 75104\, United States;X-APPLE-RADIUS=100;X-TITLE=Point of Light
  Church:geo:0,0
END:VEVENT
BEGIN:VTIMEZONE
TZID:America/Chicago
X-LIC-LOCATION:America/Chicago
BEGIN:DAYLIGHT
DTSTART:20260308T030000
TZOFFSETFROM:-0600
TZOFFSETTO:-0500
TZNAME:CDT
END:DAYLIGHT
END:VTIMEZONE
END:VCALENDAR