BEGIN:VCALENDAR
VERSION:2.0
PRODID:-//wp-events-plugin.com//7.2.3.1//EN
TZID:America/Chicago
X-WR-TIMEZONE:America/Chicago
BEGIN:VEVENT
UID:930@pointoflightchurch.org
DTSTART;TZID=America/Chicago:20231224T180000
DTEND;TZID=America/Chicago:20231224T203000
DTSTAMP:20231207T012859Z
URL:https://pointoflightchurch.org/events/power-up-bible-study-2-2023-12-2
 4-2/
SUMMARY:Christmas Eve Candlelight Service
DESCRIPTION:Join us onsite at Point of Light Church for this event.\nPoint 
 of Light Church:\n1599 Kingswood Dr\nCedar Hill\, TX\, TX 75104\n[su_butto
 n url="https://pointoflightchurch.org/contact" style="flat" icon="icon: ma
 p-marker"]Get Directions[/su_button]
ATTACH;FMTTYPE=image/jpeg:https://i0.wp.com/pointoflightchurch.org/wp-cont
 ent/uploads/2017/12/1.jpg?fit=600%2C400&ssl=1
CATEGORIES:Onsite,Weekly Services
LOCATION:Point of Light Church\, 1599 Kingswood Dr\, Cedar Hill\, TX\, 7510
 4\, United States
X-APPLE-STRUCTURED-LOCATION;VALUE=URI;X-ADDRESS=1599 Kingswood Dr\, Cedar H
 ill\, TX\, 75104\, United States;X-APPLE-RADIUS=100;X-TITLE=Point of Light
  Church:geo:0,0
END:VEVENT
BEGIN:VTIMEZONE
TZID:America/Chicago
X-LIC-LOCATION:America/Chicago
BEGIN:STANDARD
DTSTART:20231105T010000
TZOFFSETFROM:-0500
TZOFFSETTO:-0600
TZNAME:CST
END:STANDARD
END:VTIMEZONE
END:VCALENDAR