BEGIN:VCALENDAR
VERSION:2.0
PRODID:-//wp-events-plugin.com//7.2.3.1//EN
TZID:America/Chicago
X-WR-TIMEZONE:America/Chicago
BEGIN:VEVENT
UID:418@pointoflightchurch.org
DTSTART;TZID=America/Chicago:20231217T100000
DTEND;TZID=America/Chicago:20231217T113000
DTSTAMP:20231207T012710Z
URL:https://pointoflightchurch.org/events/power-up-bible-study-2-2023-12-1
 7/
SUMMARY:Sunday Morning Service - ***Christmas Program*** Wear Red & Green
DESCRIPTION:Throughout the Bible\, red and green symbolize the life of Jesu
 s. Red is the blood of Jesus Christ\, and green is the evergreen tree\, re
 presenting eternal life as it stays this hue throughout the winter. These 
 two colors also represent the leaves and holly berries embodying the crown
  of thorns on Jesus head on the cross.\nJoin us onsite at Point of Light C
 hurch for this event\, and wear something red and green.\nPoint of Light C
 hurch:\n1599 Kingswood Dr\nCedar Hill\, TX\, TX 75104\n[su_button url="htt
 ps://pointoflightchurch.org/contact" style="flat" icon="icon: map-marker"]
 Get Directions[/su_button]
CATEGORIES:Onsite,Weekly Services
LOCATION:Point of Light Church\, 1599 Kingswood Dr\, Cedar Hill\, TX\, 7510
 4\, United States
X-APPLE-STRUCTURED-LOCATION;VALUE=URI;X-ADDRESS=1599 Kingswood Dr\, Cedar H
 ill\, TX\, 75104\, United States;X-APPLE-RADIUS=100;X-TITLE=Point of Light
  Church:geo:0,0
END:VEVENT
BEGIN:VTIMEZONE
TZID:America/Chicago
X-LIC-LOCATION:America/Chicago
BEGIN:STANDARD
DTSTART:20231105T010000
TZOFFSETFROM:-0500
TZOFFSETTO:-0600
TZNAME:CST
END:STANDARD
END:VTIMEZONE
END:VCALENDAR