BEGIN:VCALENDAR
VERSION:2.0
PRODID:-//wp-events-plugin.com//7.2.3.1//EN
TZID:America/Chicago
X-WR-TIMEZONE:America/Chicago
BEGIN:VEVENT
UID:417@pointoflightchurch.org
DTSTART;TZID=America/Chicago:20231210T100000
DTEND;TZID=America/Chicago:20231210T113000
DTSTAMP:20231127T153728Z
URL:https://pointoflightchurch.org/events/power-up-bible-study-2-2023-12-1
 0/
SUMMARY:Sunday Morning Service - Christmas Sweaters
DESCRIPTION:Break out your ugliest\, cutest\, endearing Christmas sweater a
 nd Join us onsite at Point of Light Church for this event.\nPoint of Light
  Church:\n1599 Kingswood Dr\nCedar Hill\, TX\, TX 75104\n[su_button url="h
 ttps://pointoflightchurch.org/contact" style="flat" icon="icon: map-marker
 "]Get Directions[/su_button]
CATEGORIES:Onsite,Weekly Services
LOCATION:Point of Light Church\, 1599 Kingswood Dr\, Cedar Hill\, TX\, 7510
 4\, United States
X-APPLE-STRUCTURED-LOCATION;VALUE=URI;X-ADDRESS=1599 Kingswood Dr\, Cedar H
 ill\, TX\, 75104\, United States;X-APPLE-RADIUS=100;X-TITLE=Point of Light
  Church:geo:0,0
END:VEVENT
BEGIN:VTIMEZONE
TZID:America/Chicago
X-LIC-LOCATION:America/Chicago
BEGIN:STANDARD
DTSTART:20231105T010000
TZOFFSETFROM:-0500
TZOFFSETTO:-0600
TZNAME:CST
END:STANDARD
END:VTIMEZONE
END:VCALENDAR