BEGIN:VCALENDAR
VERSION:2.0
PRODID:-//wp-events-plugin.com//7.2.3.1//EN
TZID:America/Chicago
X-WR-TIMEZONE:America/Chicago
BEGIN:VEVENT
UID:924@pointoflightchurch.org
DTSTART;TZID=America/Chicago:20230819T111500
DTEND;TZID=America/Chicago:20230819T123000
DTSTAMP:20230813T124233Z
URL:https://pointoflightchurch.org/events/plc-money-management/
SUMMARY:PLC Money Management
DESCRIPTION:This event will be on-site only.  Pastor Harris will conduct a
  seminar on money management. Pastor Harris is not a financial advisors bu
 t would like to pass along some tips for money manangement success that he
  has learned along the years.  Please join him on-site if you are interes
 t in getting some money manangement tips. 
CATEGORIES:Onsite
LOCATION:Point of Light Church\, 1599 Kingswood Dr\, Cedar Hill\, TX\, 7510
 4\, United States
X-APPLE-STRUCTURED-LOCATION;VALUE=URI;X-ADDRESS=1599 Kingswood Dr\, Cedar H
 ill\, TX\, 75104\, United States;X-APPLE-RADIUS=100;X-TITLE=Point of Light
  Church:geo:0,0
END:VEVENT
BEGIN:VTIMEZONE
TZID:America/Chicago
X-LIC-LOCATION:America/Chicago
BEGIN:DAYLIGHT
DTSTART:20230312T030000
TZOFFSETFROM:-0600
TZOFFSETTO:-0500
TZNAME:CDT
END:DAYLIGHT
END:VTIMEZONE
END:VCALENDAR