BEGIN:VCALENDAR
VERSION:2.0
PRODID:-//wp-events-plugin.com//7.2.3.1//EN
TZID:America/Chicago
X-WR-TIMEZONE:America/Chicago
BEGIN:VEVENT
UID:814@pointoflightchurch.org
DTSTART;TZID=America/Chicago:20211204T090000
DTEND;TZID=America/Chicago:20211204T110000
DTSTAMP:20211203T011835Z
URL:https://pointoflightchurch.org/events/plc-mens-breakfast/
SUMMARY:PLC Men's Breakfast
DESCRIPTION:Men's fellowship breakfast limited seating.  RSVP by 3 Decembe
 r  https://www.eventbrite.com/e/plc-mens-breakfast-tickets-205323938427
LOCATION:Bro "DJ" Jackson residence\, See Flyer for Address\, Cedar Hill\, 
 TX\, 75104\, United States
X-APPLE-STRUCTURED-LOCATION;VALUE=URI;X-ADDRESS=See Flyer for Address\, Ced
 ar Hill\, TX\, 75104\, United States;X-APPLE-RADIUS=100;X-TITLE=Bro \"DJ\"
  Jackson residence:geo:0,0
END:VEVENT
BEGIN:VTIMEZONE
TZID:America/Chicago
X-LIC-LOCATION:America/Chicago
BEGIN:STANDARD
DTSTART:20211107T010000
TZOFFSETFROM:-0500
TZOFFSETTO:-0600
TZNAME:CST
END:STANDARD
END:VTIMEZONE
END:VCALENDAR