BEGIN:VCALENDAR
VERSION:2.0
PRODID:-//wp-events-plugin.com//7.2.3.1//EN
TZID:America/Chicago
X-WR-TIMEZONE:America/Chicago
BEGIN:VEVENT
UID:875@pointoflightchurch.org
DTSTART;TZID=America/Chicago;VALUE=DATE:20221004
DTEND;TZID=America/Chicago;VALUE=DATE:20221005
DTSTAMP:20220830T192340Z
URL:https://pointoflightchurch.org/events/pastor-lady-ds-wedding-anniversa
 ry/
SUMMARY:Pastor & Lady D's Wedding Anniversary
DESCRIPTION:Colossians 3:14 Love binds everything together in perfect harmo
 ny.
END:VEVENT
BEGIN:VTIMEZONE
TZID:America/Chicago
X-LIC-LOCATION:America/Chicago
BEGIN:DAYLIGHT
DTSTART:20220313T030000
TZOFFSETFROM:-0600
TZOFFSETTO:-0500
TZNAME:CDT
END:DAYLIGHT
END:VTIMEZONE
END:VCALENDAR