BEGIN:VCALENDAR
VERSION:2.0
PRODID:-//wp-events-plugin.com//7.2.3.1//EN
TZID:America/Chicago
X-WR-TIMEZONE:America/Chicago
BEGIN:VEVENT
UID:894@pointoflightchurch.org
DTSTART;TZID=America/Chicago;VALUE=DATE:20230101
DTEND;TZID=America/Chicago;VALUE=DATE:20230102
DTSTAMP:20221113T045952Z
URL:https://pointoflightchurch.org/events/no-service-new-years-day-sunday-
 january-1st-2023/
SUMMARY:No Service New Year's Day  (Sunday January 1st 2023)
DESCRIPTION:Happy New Year's\n\nReminder: No Service New Year's Day (Sunday
  January 1st)\n\n&nbsp\;
END:VEVENT
BEGIN:VTIMEZONE
TZID:America/Chicago
X-LIC-LOCATION:America/Chicago
BEGIN:STANDARD
DTSTART:20221106T010000
TZOFFSETFROM:-0500
TZOFFSETTO:-0600
TZNAME:CST
END:STANDARD
END:VTIMEZONE
END:VCALENDAR