BEGIN:VCALENDAR
VERSION:2.0
PRODID:-//wp-events-plugin.com//7.2.3.1//EN
TZID:America/Chicago
X-WR-TIMEZONE:America/Chicago
BEGIN:VEVENT
UID:920@pointoflightchurch.org
DTSTART;TZID=America/Chicago:20230604T114500
DTEND;TZID=America/Chicago:20230604T123000
DTSTAMP:20230510T214032Z
URL:https://pointoflightchurch.org/events/new-members-sessions-6/
SUMMARY:New Members Sessions
DESCRIPTION:New Member Sessions will begin immediately after church service
  in the fellowship hall.\n\nSession 1 - May 21st\n\nSession 2 - May 28th\n
 \nSession 3 - June 4th\n\nSee Sis Kimberly and Sis Janice for more details
CATEGORIES:Onsite
LOCATION:Point of Light Church\, 1599 Kingswood Dr\, Cedar Hill\, TX\, 7510
 4\, United States
X-APPLE-STRUCTURED-LOCATION;VALUE=URI;X-ADDRESS=1599 Kingswood Dr\, Cedar H
 ill\, TX\, 75104\, United States;X-APPLE-RADIUS=100;X-TITLE=Point of Light
  Church:geo:0,0
END:VEVENT
BEGIN:VTIMEZONE
TZID:America/Chicago
X-LIC-LOCATION:America/Chicago
BEGIN:DAYLIGHT
DTSTART:20230312T030000
TZOFFSETFROM:-0600
TZOFFSETTO:-0500
TZNAME:CDT
END:DAYLIGHT
END:VTIMEZONE
END:VCALENDAR