BEGIN:VCALENDAR
VERSION:2.0
PRODID:-//wp-events-plugin.com//7.2.3.1//EN
TZID:America/Chicago
X-WR-TIMEZONE:America/Chicago
BEGIN:VEVENT
UID:890@pointoflightchurch.org
DTSTART;TZID=America/Chicago:20221120T113000
DTEND;TZID=America/Chicago:20221120T123000
DTSTAMP:20221107T042653Z
URL:https://pointoflightchurch.org/events/new-members-class-2/
SUMMARY:New Members Class
DESCRIPTION:New Members Classes will be held directly after 10:00am service
  on November 13th\, 20th and 27th.  Please contact Sister Kimberly or Sis
 ter Janice for more information.
CATEGORIES:Onsite
LOCATION:Point of Light Church\, 1599 Kingswood Dr\, Cedar Hill\, TX\, 7510
 4\, United States
X-APPLE-STRUCTURED-LOCATION;VALUE=URI;X-ADDRESS=1599 Kingswood Dr\, Cedar H
 ill\, TX\, 75104\, United States;X-APPLE-RADIUS=100;X-TITLE=Point of Light
  Church:geo:0,0
END:VEVENT
BEGIN:VTIMEZONE
TZID:America/Chicago
X-LIC-LOCATION:America/Chicago
BEGIN:STANDARD
DTSTART:20221106T010000
TZOFFSETFROM:-0500
TZOFFSETTO:-0600
TZNAME:CST
END:STANDARD
END:VTIMEZONE
END:VCALENDAR