BEGIN:VCALENDAR
VERSION:2.0
PRODID:-//wp-events-plugin.com//7.2.3.1//EN
TZID:America/Chicago
X-WR-TIMEZONE:America/Chicago
BEGIN:VEVENT
UID:1006@pointoflightchurch.org
DTSTART;TZID=America/Chicago:20241117T114500
DTEND;TZID=America/Chicago:20241117T123000
DTSTAMP:20241016T230633Z
URL:https://pointoflightchurch.org/events/new-member-classes-3/
SUMMARY:New Member Classes
DESCRIPTION:Class begins immediately after service.\n\nNovermber 3rd\, 10th
  and 17th.\n\nSign Up in Foyer or Contact Minister Janice or Minister Kimb
 erly
CATEGORIES:Onsite
LOCATION:Point of Light Church\, 1599 Kingswood Dr\, Cedar Hill\, TX\, 7510
 4\, United States
X-APPLE-STRUCTURED-LOCATION;VALUE=URI;X-ADDRESS=1599 Kingswood Dr\, Cedar H
 ill\, TX\, 75104\, United States;X-APPLE-RADIUS=100;X-TITLE=Point of Light
  Church:geo:0,0
END:VEVENT
BEGIN:VTIMEZONE
TZID:America/Chicago
X-LIC-LOCATION:America/Chicago
BEGIN:STANDARD
DTSTART:20241103T010000
TZOFFSETFROM:-0500
TZOFFSETTO:-0600
TZNAME:CST
END:STANDARD
END:VTIMEZONE
END:VCALENDAR