BEGIN:VCALENDAR
VERSION:2.0
PRODID:-//wp-events-plugin.com//7.2.3.1//EN
TZID:America/Chicago
X-WR-TIMEZONE:America/Chicago
BEGIN:VEVENT
UID:1060@pointoflightchurch.org
DTSTART;TZID=America/Chicago;VALUE=DATE:20250501
DTEND;TZID=America/Chicago;VALUE=DATE:20250502
DTSTAMP:20250430T140248Z
URL:https://pointoflightchurch.org/events/national-day-of-prayer-2025/
SUMMARY:National Day of Prayer 2025
DESCRIPTION:"Now may the God of hope fill you with all joy and peace in be
 lieving\, so that you will abound in hope by the power of the Holy Spirit
 ." Romans 15:13 NASB\n&nbsp\;\n\nThe National Day of Prayer exists to mobi
 lize unified public prayer for America.
ATTACH;FMTTYPE=image/jpeg:https://i0.wp.com/pointoflightchurch.org/wp-cont
 ent/uploads/2025/04/Screenshot-2025-04-30-at-9.00.55%E2%80%AFAM.png?fit=51
 20%2C2880&ssl=1
END:VEVENT
BEGIN:VTIMEZONE
TZID:America/Chicago
X-LIC-LOCATION:America/Chicago
BEGIN:DAYLIGHT
DTSTART:20250309T030000
TZOFFSETFROM:-0600
TZOFFSETTO:-0500
TZNAME:CDT
END:DAYLIGHT
END:VTIMEZONE
END:VCALENDAR