BEGIN:VCALENDAR
VERSION:2.0
PRODID:-//wp-events-plugin.com//7.2.3.1//EN
TZID:America/Chicago
X-WR-TIMEZONE:America/Chicago
BEGIN:VEVENT
UID:945@pointoflightchurch.org
DTSTART;TZID=America/Chicago;VALUE=DATE:20240516
DTEND;TZID=America/Chicago;VALUE=DATE:20240524
DTSTAMP:20240517T002631Z
URL:https://pointoflightchurch.org/events/mothers-day-photos/
SUMMARY:Mother's Day Photos
DESCRIPTION:Please use the following link to access the Mother's Day photos
 . Once you click on the link\, it may take a few seconds to load. This lin
 k will be active until May 23rd. Thanks and Have a blessed day. Sis Jacque
  Jackson\n\nOneDrive link is:\nhttps://1drv.ms/f/c/4e59bbca149b2df4/Ei9ecy
 dKawBJh8yoOQtgXTUBQ9gcLainRYXEayQuVorI3w?e=MttQVl
END:VEVENT
BEGIN:VTIMEZONE
TZID:America/Chicago
X-LIC-LOCATION:America/Chicago
BEGIN:DAYLIGHT
DTSTART:20240310T030000
TZOFFSETFROM:-0600
TZOFFSETTO:-0500
TZNAME:CDT
END:DAYLIGHT
END:VTIMEZONE
END:VCALENDAR