BEGIN:VCALENDAR
VERSION:2.0
PRODID:-//wp-events-plugin.com//7.2.3.1//EN
TZID:America/Chicago
X-WR-TIMEZONE:America/Chicago
BEGIN:VEVENT
UID:1033@pointoflightchurch.org
DTSTART;TZID=America/Chicago:20261005T190000
DTEND;TZID=America/Chicago:20261005T200000
DTSTAMP:20260327T214740Z
URL:https://pointoflightchurch.org/events/monday-night-move-young-adults-g
 athering-2026-10-05/
SUMMARY:Monday Night Move Young Adults Gathering
DESCRIPTION:Hey\, Young Adults!\nTap in\, connect\, and chat with us.\nJoin
  us every 1st and 3rd Monday at 7PM via Zoom for a time of conversation\, 
 community\, and encouragement as we navigate life and faith together.\nLog
  in from wherever you are and invite a friend.\n Join Zoom
CATEGORIES:Ministry Meetups,Watch Online
END:VEVENT
BEGIN:VTIMEZONE
TZID:America/Chicago
X-LIC-LOCATION:America/Chicago
BEGIN:DAYLIGHT
DTSTART:20260308T030000
TZOFFSETFROM:-0600
TZOFFSETTO:-0500
TZNAME:CDT
END:DAYLIGHT
END:VTIMEZONE
END:VCALENDAR