BEGIN:VCALENDAR
VERSION:2.0
PRODID:-//wp-events-plugin.com//7.2.3.1//EN
TZID:America/Chicago
X-WR-TIMEZONE:America/Chicago
BEGIN:VEVENT
UID:1045@pointoflightchurch.org
DTSTART;TZID=America/Chicago:20251215T190000
DTEND;TZID=America/Chicago:20251215T200000
DTSTAMP:20250330T012712Z
URL:https://pointoflightchurch.org/events/monday-night-move-young-adults-g
 athering-2-2025-12-15/
SUMMARY:Monday Night Move - Young Adults Gathering
DESCRIPTION:TAP IN\, CONNECT\, CHAT\n1st and 3rd Mondays\nVIA ZOOM
ATTACH;FMTTYPE=image/jpeg:https://i0.wp.com/pointoflightchurch.org/wp-cont
 ent/uploads/2025/03/Screenshot-2025-03-29-at-7.45.20%E2%80%AFPM.png?fit=51
 20%2C2880&ssl=1
CATEGORIES:Ministry Meetups,Watch Online
END:VEVENT
BEGIN:VTIMEZONE
TZID:America/Chicago
X-LIC-LOCATION:America/Chicago
BEGIN:STANDARD
DTSTART:20251102T010000
TZOFFSETFROM:-0500
TZOFFSETTO:-0600
TZNAME:CST
END:STANDARD
END:VTIMEZONE
END:VCALENDAR