BEGIN:VCALENDAR
VERSION:2.0
PRODID:-//wp-events-plugin.com//7.2.3.1//EN
TZID:America/Chicago
X-WR-TIMEZONE:America/Chicago
BEGIN:VEVENT
UID:1067@pointoflightchurch.org
DTSTART;TZID=America/Chicago:20251025T090000
DTEND;TZID=America/Chicago:20251025T140000
DTSTAMP:20251024T182348Z
URL:https://pointoflightchurch.org/events/mobile-mammagrams-by-appoinment-
 only/
SUMMARY:Mobile Mammagrams (By Appoinment Only)
DESCRIPTION:Must Schedule by Oct 15th Call 214-933-7200 Ext 1\n\nLocation 4
 05 Eagle Drive\, Desoto\, TX 75115
ATTACH;FMTTYPE=image/jpeg:https://i0.wp.com/pointoflightchurch.org/wp-cont
 ent/uploads/2025/10/Screenshot-2025-10-15-at-11.30.41%E2%80%AFAM.png?fit=5
 120%2C2880&ssl=1
CATEGORIES:Onsite
LOCATION:LES Ziegler Park\, 405 Eagle Dr\, Desoto\, TX\, 75115\, United Sta
 tes
X-APPLE-STRUCTURED-LOCATION;VALUE=URI;X-ADDRESS=405 Eagle Dr\, Desoto\, TX\
 , 75115\, United States;X-APPLE-RADIUS=100;X-TITLE=LES Ziegler Park:geo:0,
 0
END:VEVENT
BEGIN:VTIMEZONE
TZID:America/Chicago
X-LIC-LOCATION:America/Chicago
BEGIN:DAYLIGHT
DTSTART:20250309T030000
TZOFFSETFROM:-0600
TZOFFSETTO:-0500
TZNAME:CDT
END:DAYLIGHT
END:VTIMEZONE
END:VCALENDAR