BEGIN:VCALENDAR
VERSION:2.0
PRODID:-//wp-events-plugin.com//7.2.3.1//EN
TZID:America/Chicago
X-WR-TIMEZONE:America/Chicago
BEGIN:VEVENT
UID:1338@pointoflightchurch.org
DTSTART;TZID=America/Chicago:20260130T190000
DTEND;TZID=America/Chicago:20260130T210000
DTSTAMP:20260122T191031Z
URL:https://pointoflightchurch.org/events/member-appreciation-night/
SUMMARY:Member Appreciation Night
DESCRIPTION:Join us onsite at Point of Light Church for this event.\nPoint 
 of Light Church:\n1599 Kingswood Dr\nCedar Hill\, TX\, TX 75104\n[su_butto
 n url="https://pointoflightchurch.org/contact" style="flat" background="#9
 9cc66"  icon="icon: map-marker"]Get Directions[/su_button]\nWatch Online:
 \n[su_button url="https://pointoflightchurch.org/watch/" style="flat" back
 ground="#993399" icon="icon: youtube-play"]Watch Online[/su_button]\nWatch
  Live on:\n[su_button url="https://www.facebook.com/PointOfLightChurch/" s
 tyle="flat" icon="icon: facebook-official"]Facebook[/su_button]\n[su_butto
 n url="https://www.youtube.com/channel/UCgJeSAs4r1WmkZgrye_LSag" style="fl
 at" background="#ff0000" icon="icon: youtube-play" icon_color="#ffffff"]Yo
 uTube[/su_button]\nPlease Sign Up\n\nhttps://subsplash.com/pointoflightchu
 rch/lb/ev/+y52rsq6?invoked_by=qr\n\n&nbsp\;
CATEGORIES:Onsite,Special Events
LOCATION:Point of Light Church\, 1599 Kingswood Dr\, Cedar Hill\, TX\, 7510
 4\, United States
X-APPLE-STRUCTURED-LOCATION;VALUE=URI;X-ADDRESS=1599 Kingswood Dr\, Cedar H
 ill\, TX\, 75104\, United States;X-APPLE-RADIUS=100;X-TITLE=Point of Light
  Church:geo:0,0
END:VEVENT
BEGIN:VTIMEZONE
TZID:America/Chicago
X-LIC-LOCATION:America/Chicago
BEGIN:STANDARD
DTSTART:20251102T010000
TZOFFSETFROM:-0500
TZOFFSETTO:-0600
TZNAME:CST
END:STANDARD
END:VTIMEZONE
END:VCALENDAR