BEGIN:VCALENDAR
VERSION:2.0
PRODID:-//wp-events-plugin.com//7.2.3.1//EN
TZID:America/Chicago
X-WR-TIMEZONE:America/Chicago
BEGIN:VEVENT
UID:951@pointoflightchurch.org
DTSTART;TZID=America/Chicago:20241112T190000
DTEND;TZID=America/Chicago:20241112T200000
DTSTAMP:20240919T191117Z
URL:https://pointoflightchurch.org/events/ladies-book-club-the-point-4/
SUMMARY:Ladies Book Club @ The POINT
DESCRIPTION:Meeting Dates: Tuesdays at 7pm @ The POINT.  Please sign-up in
  the Foyer or Contact Min Kim or Min Janice.\n\nSeptember 24th\n\nOctober 
 1st\n\nOctober 8th\n\nNovember 12th\n\nNovember 19th\n\nDecember 3rd\n\nDe
 cember 10th\n\nDecember 17th
CATEGORIES:Onsite
LOCATION:Point of Light Church\, 1599 Kingswood Dr\, Cedar Hill\, TX\, 7510
 4\, United States
X-APPLE-STRUCTURED-LOCATION;VALUE=URI;X-ADDRESS=1599 Kingswood Dr\, Cedar H
 ill\, TX\, 75104\, United States;X-APPLE-RADIUS=100;X-TITLE=Point of Light
  Church:geo:0,0
END:VEVENT
BEGIN:VTIMEZONE
TZID:America/Chicago
X-LIC-LOCATION:America/Chicago
BEGIN:STANDARD
DTSTART:20241103T010000
TZOFFSETFROM:-0500
TZOFFSETTO:-0600
TZNAME:CST
END:STANDARD
END:VTIMEZONE
END:VCALENDAR