BEGIN:VCALENDAR
VERSION:2.0
PRODID:-//wp-events-plugin.com//7.2.3.1//EN
TZID:America/Chicago
X-WR-TIMEZONE:America/Chicago
BEGIN:VEVENT
UID:946@pointoflightchurch.org
DTSTART;TZID=America/Chicago:20240603T063000
DTEND;TZID=America/Chicago:20240830T173000
DTSTAMP:20240526T132513Z
URL:https://pointoflightchurch.org/events/kids-u-prepratory-summer-camp-be
 gins/
SUMMARY:KID'S U PREPRATORY - Summer Camp Begins
DESCRIPTION: Call to enroll now!\nAges 5-11\n972-637-3444
ATTACH;FMTTYPE=image/jpeg:https://i0.wp.com/pointoflightchurch.org/wp-cont
 ent/uploads/2024/05/Prep-Summer-Camp-postcard-2024.jpeg?fit=1749%2C1239&ss
 l=1
LOCATION:Point of Light Church\, 1599 Kingswood Dr\, Cedar Hill\, TX\, 7510
 4\, United States
X-APPLE-STRUCTURED-LOCATION;VALUE=URI;X-ADDRESS=1599 Kingswood Dr\, Cedar H
 ill\, TX\, 75104\, United States;X-APPLE-RADIUS=100;X-TITLE=Point of Light
  Church:geo:0,0
END:VEVENT
BEGIN:VTIMEZONE
TZID:America/Chicago
X-LIC-LOCATION:America/Chicago
BEGIN:DAYLIGHT
DTSTART:20240310T030000
TZOFFSETFROM:-0600
TZOFFSETTO:-0500
TZNAME:CDT
END:DAYLIGHT
END:VTIMEZONE
END:VCALENDAR