BEGIN:VCALENDAR
VERSION:2.0
PRODID:-//wp-events-plugin.com//7.2.3.1//EN
TZID:America/Chicago
X-WR-TIMEZONE:America/Chicago
BEGIN:VEVENT
UID:916@pointoflightchurch.org
DTSTART;TZID=America/Chicago:20230624T110000
DTEND;TZID=America/Chicago:20230624T140000
DTSTAMP:20230504T132937Z
URL:https://pointoflightchurch.org/events/hello-beautiful-zoe-ladies-brunc
 h/
SUMMARY:Hello Beautiful\, Zoe Ladies' Brunch
DESCRIPTION:Ladies\,\n\nRegister and pay for the Annual Zoe Ladies' Brunch 
 on EventBrite : https://www.eventbrite.com/e/hello-beautiful-zoe-ladies-20
 23-brunch-tickets-576681208017?aff=ebdssbeac\n\nIf you need help with onli
 ne registration talk with the committee leds and someone will assist you w
 ith getting signed up.
CATEGORIES:Special Events
END:VEVENT
BEGIN:VTIMEZONE
TZID:America/Chicago
X-LIC-LOCATION:America/Chicago
BEGIN:DAYLIGHT
DTSTART:20230312T030000
TZOFFSETFROM:-0600
TZOFFSETTO:-0500
TZNAME:CDT
END:DAYLIGHT
END:VTIMEZONE
END:VCALENDAR