BEGIN:VCALENDAR
VERSION:2.0
PRODID:-//wp-events-plugin.com//7.2.3.1//EN
TZID:America/Chicago
X-WR-TIMEZONE:America/Chicago
BEGIN:VEVENT
UID:1066@pointoflightchurch.org
DTSTART;TZID=America/Chicago:20250913T110000
DTEND;TZID=America/Chicago:20250913T130000
DTSTAMP:20250714T183951Z
URL:https://pointoflightchurch.org/events/girl-but-god/
SUMMARY:GIRL\, but God
DESCRIPTION:Chat -n- Chew
ATTACH;FMTTYPE=image/jpeg:https://i0.wp.com/pointoflightchurch.org/wp-cont
 ent/uploads/2025/07/Screenshot-2025-07-14-at-1.12.17%E2%80%AFPM.png?fit=51
 20%2C2880&ssl=1
CATEGORIES:Ministry Meetups
END:VEVENT
BEGIN:VTIMEZONE
TZID:America/Chicago
X-LIC-LOCATION:America/Chicago
BEGIN:DAYLIGHT
DTSTART:20250309T030000
TZOFFSETFROM:-0600
TZOFFSETTO:-0500
TZNAME:CDT
END:DAYLIGHT
END:VTIMEZONE
END:VCALENDAR