BEGIN:VCALENDAR
VERSION:2.0
PRODID:-//wp-events-plugin.com//7.2.3.1//EN
TZID:America/Chicago
X-WR-TIMEZONE:America/Chicago
BEGIN:VEVENT
UID:906@pointoflightchurch.org
DTSTART;TZID=America/Chicago:20230328T183000
DTEND;TZID=America/Chicago:20230328T191500
DTSTAMP:20230317T142659Z
URL:https://pointoflightchurch.org/events/financial-peace-virtual-every-tu
 esday/
SUMMARY:Financial Peace (Virtual )
DESCRIPTION: Learn how you can pay off debt\, save more money\, and build 
 wealth!\nSign Up:  fpu.com/1161965
CATEGORIES:Watch Online
END:VEVENT
BEGIN:VTIMEZONE
TZID:America/Chicago
X-LIC-LOCATION:America/Chicago
BEGIN:DAYLIGHT
DTSTART:20230312T030000
TZOFFSETFROM:-0600
TZOFFSETTO:-0500
TZNAME:CDT
END:DAYLIGHT
END:VTIMEZONE
END:VCALENDAR