BEGIN:VCALENDAR
VERSION:2.0
PRODID:-//wp-events-plugin.com//7.2.3.1//EN
TZID:America/Chicago
X-WR-TIMEZONE:America/Chicago
BEGIN:VEVENT
UID:907@pointoflightchurch.org
DTSTART;TZID=America/Chicago:20230403T183000
DTEND;TZID=America/Chicago:20230424T191500
DTSTAMP:20230212T144737Z
URL:https://pointoflightchurch.org/events/financial-peace-virtual-every-mo
 nday/
SUMMARY:Financial Peace (Virtual)
DESCRIPTION:6:30PM\n\nTentative April Dates\n11th: Financial Peace 6:30PM\n
 17th: Financial Peace 6:30PM\n24th: Financial Peace 6:30PM
CATEGORIES:Watch Online
END:VEVENT
BEGIN:VTIMEZONE
TZID:America/Chicago
X-LIC-LOCATION:America/Chicago
BEGIN:DAYLIGHT
DTSTART:20230312T030000
TZOFFSETFROM:-0600
TZOFFSETTO:-0500
TZNAME:CDT
END:DAYLIGHT
END:VTIMEZONE
END:VCALENDAR