BEGIN:VCALENDAR
VERSION:2.0
PRODID:-//wp-events-plugin.com//7.2.3.1//EN
TZID:America/Chicago
X-WR-TIMEZONE:America/Chicago
BEGIN:VEVENT
UID:871@pointoflightchurch.org
DTSTART;TZID=America/Chicago:20220619T080000
DTEND;TZID=America/Chicago:20220619T093000
DTSTAMP:20220607T172039Z
URL:https://pointoflightchurch.org/events/fathers-day-pancake-breakfast/
SUMMARY:Father's Day Pancake Breakfast
DESCRIPTION:Father’s Day\, June 19th\n\nFather’s Day is right around th
 e corner and we can’t wait to celebrate our dads!\n\nBring your dad\, st
 epdad\, granddad\, or any man who has impacted your life for a free pancak
 e breakfast bar.
ATTACH;FMTTYPE=image/jpeg:https://pointoflightchurch.org/wp-content/upload
 s/2022/06/Fathers-Day-Pancake-Breakfast-1-pdf.jpg
CATEGORIES:Onsite,Special Events
LOCATION:Point of Light Church\, 1599 Kingswood Dr\, Cedar Hill\, TX\, 7510
 4\, United States
X-APPLE-STRUCTURED-LOCATION;VALUE=URI;X-ADDRESS=1599 Kingswood Dr\, Cedar H
 ill\, TX\, 75104\, United States;X-APPLE-RADIUS=100;X-TITLE=Point of Light
  Church:geo:0,0
END:VEVENT
BEGIN:VTIMEZONE
TZID:America/Chicago
X-LIC-LOCATION:America/Chicago
BEGIN:DAYLIGHT
DTSTART:20220313T030000
TZOFFSETFROM:-0600
TZOFFSETTO:-0500
TZNAME:CDT
END:DAYLIGHT
END:VTIMEZONE
END:VCALENDAR