BEGIN:VCALENDAR
VERSION:2.0
PRODID:-//wp-events-plugin.com//7.2.3.1//EN
TZID:America/Chicago
X-WR-TIMEZONE:America/Chicago
BEGIN:VEVENT
UID:878@pointoflightchurch.org
DTSTART;TZID=America/Chicago:20221020T183000
DTEND;TZID=America/Chicago:20221020T203000
DTSTAMP:20220927T174226Z
URL:https://pointoflightchurch.org/events/fall-season-church-decoration/
SUMMARY:Fall Season Church Decoration Installation
DESCRIPTION:Thanks in advance for those who want to participate! We will me
 et at 6:30PM.  Thank you again for volunteering!
CATEGORIES:Onsite
LOCATION:Point of Light Church\, 1599 Kingswood Dr\, Cedar Hill\, TX\, 7510
 4\, United States
X-APPLE-STRUCTURED-LOCATION;VALUE=URI;X-ADDRESS=1599 Kingswood Dr\, Cedar H
 ill\, TX\, 75104\, United States;X-APPLE-RADIUS=100;X-TITLE=Point of Light
  Church:geo:0,0
END:VEVENT
BEGIN:VTIMEZONE
TZID:America/Chicago
X-LIC-LOCATION:America/Chicago
BEGIN:DAYLIGHT
DTSTART:20220313T030000
TZOFFSETFROM:-0600
TZOFFSETTO:-0500
TZNAME:CDT
END:DAYLIGHT
END:VTIMEZONE
END:VCALENDAR