BEGIN:VCALENDAR
VERSION:2.0
PRODID:-//wp-events-plugin.com//7.2.3.1//EN
TZID:America/Chicago
X-WR-TIMEZONE:America/Chicago
BEGIN:VEVENT
UID:892@pointoflightchurch.org
DTSTART;TZID=America/Chicago;VALUE=DATE:20221203
DTEND;TZID=America/Chicago;VALUE=DATE:20221204
DTSTAMP:20221113T041408Z
URL:https://pointoflightchurch.org/events/decorate-church-time-tbd/
SUMMARY:Decorate Church (Time: TBD)
DESCRIPTION:Decorate Church for Christmas\n\nTime: To Be Determined\n\nThan
 ks in advance for those who are able to help! Happy Holidays!
END:VEVENT
BEGIN:VTIMEZONE
TZID:America/Chicago
X-LIC-LOCATION:America/Chicago
BEGIN:STANDARD
DTSTART:20221106T010000
TZOFFSETFROM:-0500
TZOFFSETTO:-0600
TZNAME:CST
END:STANDARD
END:VTIMEZONE
END:VCALENDAR