BEGIN:VCALENDAR
VERSION:2.0
PRODID:-//wp-events-plugin.com//7.2.3.1//EN
TZID:America/Chicago
X-WR-TIMEZONE:America/Chicago
BEGIN:VEVENT
UID:938@pointoflightchurch.org
DTSTART;TZID=America/Chicago:20240720T090000
DTEND;TZID=America/Chicago:20240720T101500
DTSTAMP:20240501T184312Z
URL:https://pointoflightchurch.org/events/covenant-couples-marriage-minist
 ry-2/
SUMMARY:Covenant Couples Marriage Ministry
DESCRIPTION:PLC Covenant Couples Bible Study\n\n3rd Saturday each Month\n\n
 POC Min Chad and Dawn Williams
CATEGORIES:Ministry Meetups,Onsite
LOCATION:Point of Light Church\, 1599 Kingswood Dr\, Cedar Hill\, TX\, 7510
 4\, United States
X-APPLE-STRUCTURED-LOCATION;VALUE=URI;X-ADDRESS=1599 Kingswood Dr\, Cedar H
 ill\, TX\, 75104\, United States;X-APPLE-RADIUS=100;X-TITLE=Point of Light
  Church:geo:0,0
END:VEVENT
BEGIN:VTIMEZONE
TZID:America/Chicago
X-LIC-LOCATION:America/Chicago
BEGIN:DAYLIGHT
DTSTART:20240310T030000
TZOFFSETFROM:-0600
TZOFFSETTO:-0500
TZNAME:CDT
END:DAYLIGHT
END:VTIMEZONE
END:VCALENDAR