BEGIN:VCALENDAR
VERSION:2.0
PRODID:-//wp-events-plugin.com//7.2.3.1//EN
TZID:America/Chicago
X-WR-TIMEZONE:America/Chicago
BEGIN:VEVENT
UID:999@pointoflightchurch.org
DTSTART;TZID=America/Chicago:20251220T090000
DTEND;TZID=America/Chicago:20251220T100000
DTSTAMP:20260327T210004Z
URL:https://pointoflightchurch.org/events/convenant-couples-2025-12-20/
SUMMARY:Covenant Couples Marriage Ministry
DESCRIPTION:Hey\, Married Couples!\nJoin us for a powerful time of connecti
 on\, growth\, and encouragement as we strengthen our marriages through fai
 th and community.\nWhether you’re newly married\, seasoned\, or preparin
 g for the future\, this space is for you.\nWe meet every third Saturday at
  9AM at Point of Light Church.\n\n\n&nbsp\;\n\n&nbsp\;\nWant to get connec
 ted?\nReach out to our Couples Ministry leaders: Min. Chad and Dawn Willi
 ams
CATEGORIES:Ministry Meetups,Onsite
LOCATION:Point of Light Church\, 1599 Kingswood Dr\, Cedar Hill\, TX\, 7510
 4\, United States
X-APPLE-STRUCTURED-LOCATION;VALUE=URI;X-ADDRESS=1599 Kingswood Dr\, Cedar H
 ill\, TX\, 75104\, United States;X-APPLE-RADIUS=100;X-TITLE=Point of Light
  Church:geo:0,0
END:VEVENT
BEGIN:VTIMEZONE
TZID:America/Chicago
X-LIC-LOCATION:America/Chicago
BEGIN:STANDARD
DTSTART:20251102T010000
TZOFFSETFROM:-0500
TZOFFSETTO:-0600
TZNAME:CST
END:STANDARD
END:VTIMEZONE
END:VCALENDAR