BEGIN:VCALENDAR
VERSION:2.0
PRODID:-//wp-events-plugin.com//7.2.3.1//EN
TZID:America/Chicago
X-WR-TIMEZONE:America/Chicago
BEGIN:VEVENT
UID:929@pointoflightchurch.org
DTSTART;TZID=America/Chicago:20231111T100000
DTEND;TZID=America/Chicago:20231111T113000
DTSTAMP:20230925T181744Z
URL:https://pointoflightchurch.org/events/church-security-awareness-traini
 ng/
SUMMARY:Church Security Awareness Training
DESCRIPTION:Church Safety and Security Session \nFacilitated by Bro Bobby\
 , Head of Church Security.\nFire\, Emergency Call\, Medical Emergency\, Sh
 elter In Place\, etc...
CATEGORIES:Onsite
END:VEVENT
BEGIN:VTIMEZONE
TZID:America/Chicago
X-LIC-LOCATION:America/Chicago
BEGIN:STANDARD
DTSTART:20231105T010000
TZOFFSETFROM:-0500
TZOFFSETTO:-0600
TZNAME:CST
END:STANDARD
END:VTIMEZONE
END:VCALENDAR