BEGIN:VCALENDAR
VERSION:2.0
PRODID:-//wp-events-plugin.com//7.2.3.1//EN
TZID:America/Chicago
X-WR-TIMEZONE:America/Chicago
BEGIN:VEVENT
UID:897@pointoflightchurch.org
DTSTART;TZID=America/Chicago:20221211T100000
DTEND;TZID=America/Chicago:20221211T111500
DTSTAMP:20221113T044517Z
URL:https://pointoflightchurch.org/events/celebration-sunday-red-and-green
 -colors/
SUMMARY:Celebration Sunday - Red and Green Colors
DESCRIPTION:Join us in celebrating the holiday season by wear Red and/or Gr
 een to service.\nJoin us onsite at Point of Light Church for this event.\n
 Point of Light Church:\n1599 Kingswood Dr\nCedar Hill\, TX\, TX 75104\n[su
 _button url="https://pointoflightchurch.org/contact" style="flat" icon="ic
 on: map-marker"]Get Directions[/su_button]\n&nbsp\;\n\n&nbsp\;
LOCATION:Point of Light Church\, 1599 Kingswood Dr\, Cedar Hill\, TX\, 7510
 4\, United States
X-APPLE-STRUCTURED-LOCATION;VALUE=URI;X-ADDRESS=1599 Kingswood Dr\, Cedar H
 ill\, TX\, 75104\, United States;X-APPLE-RADIUS=100;X-TITLE=Point of Light
  Church:geo:0,0
END:VEVENT
BEGIN:VTIMEZONE
TZID:America/Chicago
X-LIC-LOCATION:America/Chicago
BEGIN:STANDARD
DTSTART:20221106T010000
TZOFFSETFROM:-0500
TZOFFSETTO:-0600
TZNAME:CST
END:STANDARD
END:VTIMEZONE
END:VCALENDAR